BEGIN:VCALENDAR
VERSION:2.0
PRODID:-//City of Hilliard - ECPv6.15.20//NONSGML v1.0//EN
CALSCALE:GREGORIAN
METHOD:PUBLISH
X-WR-CALNAME:City of Hilliard
X-ORIGINAL-URL:https://hilliardohio.gov
X-WR-CALDESC:Events for City of Hilliard
REFRESH-INTERVAL;VALUE=DURATION:PT1H
X-Robots-Tag:noindex
X-PUBLISHED-TTL:PT1H
BEGIN:VTIMEZONE
TZID:America/New_York
BEGIN:DAYLIGHT
TZOFFSETFROM:-0500
TZOFFSETTO:-0400
TZNAME:EDT
DTSTART:20250309T070000
END:DAYLIGHT
BEGIN:STANDARD
TZOFFSETFROM:-0400
TZOFFSETTO:-0500
TZNAME:EST
DTSTART:20251102T060000
END:STANDARD
BEGIN:DAYLIGHT
TZOFFSETFROM:-0500
TZOFFSETTO:-0400
TZNAME:EDT
DTSTART:20260308T070000
END:DAYLIGHT
BEGIN:STANDARD
TZOFFSETFROM:-0400
TZOFFSETTO:-0500
TZNAME:EST
DTSTART:20261101T060000
END:STANDARD
BEGIN:DAYLIGHT
TZOFFSETFROM:-0500
TZOFFSETTO:-0400
TZNAME:EDT
DTSTART:20270314T070000
END:DAYLIGHT
BEGIN:STANDARD
TZOFFSETFROM:-0400
TZOFFSETTO:-0500
TZNAME:EST
DTSTART:20271107T060000
END:STANDARD
END:VTIMEZONE
BEGIN:VEVENT
DTSTART;TZID=America/New_York:20260721T000000
DTEND;TZID=America/New_York:20260721T000000
DTSTAMP:20260420T042450
CREATED:20260223T140821Z
LAST-MODIFIED:20260409T183533Z
UID:90912-1784592000-1784592000@hilliardohio.gov
SUMMARY:Senior Day at the Fair
DESCRIPTION:Seniors enjoy breakfast\, bingo\, entertainment\, prizes\, and lunch at the fair. Norwich Township firefighters\, City of Hilliard police\, volunteers\, and sponsors join in the fun. \nThank you to our  sponsors\, Optalis\, Orthopedic One\, Amazon\, and the Office of Ohio Consumers’ Counsel\, for making this event possible.
URL:https://hilliardohio.gov/event/senior-day-at-the-fair-2/
LOCATION:Franklin County Fairgrounds\, 4100 Columbia St\, Hilliard\, 43026\, United States
CATEGORIES:Family Fun
ATTACH;FMTTYPE=image/jpeg:https://hilliardohio.gov/wp-content/uploads/2025/03/Senior-Day-at-the-fair.jpg
END:VEVENT
END:VCALENDAR