BEGIN:VCALENDAR
VERSION:2.0
PRODID:-//City of Hilliard - ECPv6.15.20//NONSGML v1.0//EN
CALSCALE:GREGORIAN
METHOD:PUBLISH
X-WR-CALNAME:City of Hilliard
X-ORIGINAL-URL:https://hilliardohio.gov
X-WR-CALDESC:Events for City of Hilliard
REFRESH-INTERVAL;VALUE=DURATION:PT1H
X-Robots-Tag:noindex
X-PUBLISHED-TTL:PT1H
BEGIN:VTIMEZONE
TZID:America/New_York
BEGIN:DAYLIGHT
TZOFFSETFROM:-0500
TZOFFSETTO:-0400
TZNAME:EDT
DTSTART:20250309T070000
END:DAYLIGHT
BEGIN:STANDARD
TZOFFSETFROM:-0400
TZOFFSETTO:-0500
TZNAME:EST
DTSTART:20251102T060000
END:STANDARD
BEGIN:DAYLIGHT
TZOFFSETFROM:-0500
TZOFFSETTO:-0400
TZNAME:EDT
DTSTART:20260308T070000
END:DAYLIGHT
BEGIN:STANDARD
TZOFFSETFROM:-0400
TZOFFSETTO:-0500
TZNAME:EST
DTSTART:20261101T060000
END:STANDARD
BEGIN:DAYLIGHT
TZOFFSETFROM:-0500
TZOFFSETTO:-0400
TZNAME:EDT
DTSTART:20270314T070000
END:DAYLIGHT
BEGIN:STANDARD
TZOFFSETFROM:-0400
TZOFFSETTO:-0500
TZNAME:EST
DTSTART:20271107T060000
END:STANDARD
END:VTIMEZONE
BEGIN:VEVENT
DTSTART;TZID=America/New_York:20260704T170000
DTEND;TZID=America/New_York:20260704T230000
DTSTAMP:20260422T065059
CREATED:20260223T140801Z
LAST-MODIFIED:20260409T183518Z
UID:10000210-1783184400-1783206000@hilliardohio.gov
SUMMARY:Freedom Fest and America 250 Picnic
DESCRIPTION:Join us for a patriotic celebration\, complete with live music\, food trucks\, Kids Zone inflatables and games\, chalk art\, stilt walkers\, and fireworks. Stay tuned for the announcement of this year’s headlining artist! \nThank you to our event sponsors\, Credit Union of Ohio\, Amazon\, and The Ohio State University Wexner Medical Center\, as well as our event partners\, Japanese Automotive\, and The Westwood Collective\, for making this event possible.
URL:https://hilliardohio.gov/event/freedom-fest-and-america-250-picnic/
LOCATION:Roger A. Reynolds Municipal Park\, 3800 Veterans Memorial Dr\, Hilliard\, 43026\, United States
CATEGORIES:Family Fun,Games,Live Music
ATTACH;FMTTYPE=image/jpeg:https://hilliardohio.gov/wp-content/uploads/2025/03/Freedom-Fest.jpg
END:VEVENT
END:VCALENDAR